BEGIN:VCALENDAR
VERSION:2.0
PRODID:-//PVCA - ECPv5.1.6//NONSGML v1.0//EN
CALSCALE:GREGORIAN
METHOD:PUBLISH
X-WR-CALNAME:PVCA
X-ORIGINAL-URL:https://www.pvca.org
X-WR-CALDESC:Events for PVCA
BEGIN:VTIMEZONE
TZID:UTC
BEGIN:STANDARD
TZOFFSETFROM:+0000
TZOFFSETTO:+0000
TZNAME:UTC
DTSTART:20170101T000000
END:STANDARD
END:VTIMEZONE
BEGIN:VEVENT
DTSTART;VALUE=DATE:20170617
DTEND;VALUE=DATE:20170702
DTSTAMP:20260423T121651
CREATED:20161231T052946Z
LAST-MODIFIED:20170508T233457Z
UID:1270-1497657600-1498953599@www.pvca.org
SUMMARY:Route 66 Vacation Run
DESCRIPTION:The Route 66 tour is on. We will leave Saturday\, June 17th\, and boogie to Chicago using the Interstate. We figure it will take us six days to get to Chicago and then we will spend a couple of days touring the “Second City” with Dave and Kimberly who lived there for 15 years. Then we will start heading home on June 24th\, enjoying as much of the original highway as we can find. We will head west\, again following America’s Main Street\, arriving at the Santa Monica pier on July 1st. \nPlease see Dave or Kim B. for more details including hotels and stops along the way. \nClick on the link for itinerary details: Route 66 Road Trip Itenerary
URL:https://www.pvca.org/event/route-66-vacation-run/
CATEGORIES:Vacation Event
END:VEVENT
END:VCALENDAR