BEGIN:VCALENDAR
VERSION:2.0
PRODID:-//PVCA - ECPv5.1.6//NONSGML v1.0//EN
CALSCALE:GREGORIAN
METHOD:PUBLISH
X-WR-CALNAME:PVCA
X-ORIGINAL-URL:https://www.pvca.org
X-WR-CALDESC:Events for PVCA
BEGIN:VTIMEZONE
TZID:America/Los_Angeles
BEGIN:DAYLIGHT
TZOFFSETFROM:-0800
TZOFFSETTO:-0700
TZNAME:PDT
DTSTART:20230312T100000
END:DAYLIGHT
BEGIN:STANDARD
TZOFFSETFROM:-0700
TZOFFSETTO:-0800
TZNAME:PST
DTSTART:20231105T090000
END:STANDARD
END:VTIMEZONE
BEGIN:VEVENT
DTSTART;TZID=America/Los_Angeles:20231027T180000
DTEND;TZID=America/Los_Angeles:20231027T220000
DTSTAMP:20260425T193427
CREATED:20230927T141724Z
LAST-MODIFIED:20230927T231138Z
UID:18204-1698429600-1698444000@www.pvca.org
SUMMARY:HALLOWEEN PARTY at the BOEKENOOGEN’S
DESCRIPTION:JOIN THE “BOO”KENOOGEN’S \nFOR A HALLOWEEN PARTY\nFRIDAY\, OCTOBER 27\, 2023\n6PM TO 10PM\nCOSTUMES OPTIONAL\nOR \nWEAR YOUR CORVETTE ENTHUSIAST GEAR\nPLEASE BRING AN HORS d’ OEUVRE\nADDRESS AND TELEPHONE NUMBER IS ON PVCA LIST-SERVE
URL:https://www.pvca.org/event/halloween-party-at-the-boekenoogens-2/
LOCATION:La Verne\,CA\, La Verne\, CA\, 91750\, United States
CATEGORIES:SPECIAL EVENT
GEO:34.1008426;-117.7678355
END:VEVENT
END:VCALENDAR