BEGIN:VCALENDAR
VERSION:2.0
PRODID:-//PVCA - ECPv5.1.6//NONSGML v1.0//EN
CALSCALE:GREGORIAN
METHOD:PUBLISH
X-WR-CALNAME:PVCA
X-ORIGINAL-URL:https://www.pvca.org
X-WR-CALDESC:Events for PVCA
BEGIN:VTIMEZONE
TZID:America/Los_Angeles
BEGIN:DAYLIGHT
TZOFFSETFROM:-0800
TZOFFSETTO:-0700
TZNAME:PDT
DTSTART:20250309T100000
END:DAYLIGHT
BEGIN:STANDARD
TZOFFSETFROM:-0700
TZOFFSETTO:-0800
TZNAME:PST
DTSTART:20251102T090000
END:STANDARD
END:VTIMEZONE
BEGIN:VEVENT
DTSTART;TZID=America/Los_Angeles:20250920T100000
DTEND;TZID=America/Los_Angeles:20250920T120000
DTSTAMP:20260422T082205
CREATED:20250213T180759Z
LAST-MODIFIED:20250923T160232Z
UID:21822-1758362400-1758369600@www.pvca.org
SUMMARY:NCCC Governor's Meeting
DESCRIPTION:This a virtual meeting. A link has been emailed to our membership.
URL:https://www.pvca.org/event/nccc-governors-meeting-9-2025-09-20/
LOCATION:CA\, United States
CATEGORIES:NCCC Meeting or Convention,PVCA Sponsored
END:VEVENT
END:VCALENDAR