BEGIN:VCALENDAR
VERSION:2.0
PRODID:-//PVCA - ECPv5.1.6//NONSGML v1.0//EN
CALSCALE:GREGORIAN
METHOD:PUBLISH
X-WR-CALNAME:PVCA
X-ORIGINAL-URL:https://www.pvca.org
X-WR-CALDESC:Events for PVCA
BEGIN:VTIMEZONE
TZID:America/Los_Angeles
BEGIN:DAYLIGHT
TZOFFSETFROM:-0800
TZOFFSETTO:-0700
TZNAME:PDT
DTSTART:20250309T100000
END:DAYLIGHT
BEGIN:STANDARD
TZOFFSETFROM:-0700
TZOFFSETTO:-0800
TZNAME:PST
DTSTART:20251102T090000
END:STANDARD
END:VTIMEZONE
BEGIN:VEVENT
DTSTART;TZID=America/Los_Angeles:20250704T074500
DTEND;TZID=America/Los_Angeles:20250704T110000
DTSTAMP:20260419T175705
CREATED:20240425T175856Z
LAST-MODIFIED:20250616T165224Z
UID:22439-1751615100-1751626800@www.pvca.org
SUMMARY:CITY OF ONTARIO 4th OF JULY PARADE
DESCRIPTION:6 (5+1) CARS NEEDED FOR THIS PARADE\nCITY OF ONTARIO BOARD OF TRUSTEES\nPARADE STARTS AT 9:00 AM\nMEETING TIME 7:45 AM AT BANK OF AMERICA UPLAND (40 W FOOTHILL BLVD.)\nSW CORNER OF FOOTHILL AND EUCLID\nBRING YOUR RADIOS\nPER CITY OF ONTARIO’S REQUEST\, HAVE DRIVER’S LICENSE AND PROOF OF INSURANCE AVAILABLE \nPASSENGERS WILL BE RIDING IN ALL 5 CARS\, THEREFORE\, ONLY DRIVERS FOR THIS EVENT.
URL:https://www.pvca.org/event/city-of-ontario-4th-of-july-parade-2-2025-07-04/
LOCATION:BofA Upland PL\, 40 W. Foothill\, Upland\, CA\, United States
CATEGORIES:Parade,PVCA Sponsored
ORGANIZER;CN="Bob%20F.":MAILTO:Bobsmr2@hotmail.com
END:VEVENT
BEGIN:VEVENT
DTSTART;TZID=America/Los_Angeles:20250704T113000
DTEND;TZID=America/Los_Angeles:20250704T140000
DTSTAMP:20260419T175705
CREATED:20240222T012429Z
LAST-MODIFIED:20250605T170730Z
UID:22437-1751628600-1751637600@www.pvca.org
SUMMARY:CITY OF CLAREMONT ANNUAL 4th of JULY PARADE
DESCRIPTION: Claremont requests 9 (8+1) removable roof coupes and convertibles to lead the parade with distinguished VIP’s such as elected officials\, Grand Marshal\, and Honored Citizens.  The parade is scheduled for Friday\, July 4\, beginning at 1 PM at Memorial Park in Claremont.  The cars need to be in place at 12:00 PM.  The parade is approximately 1 mile in length and concludes by 1:30 PM.\n\n\n\n\n\n\n\nWe will meet at the Wells Fargo Bank parking lot on the northeast corner of Indian Hill Blvd. and W. 2ND.\n Meet at 11:30 AM and leave for the parade staging area by 11:45. \nPlease remember to bring your driver’s license\, registration\, and proof of insurance (this is a request from the City).  Also remember your radio. \nThanks for volunteering your vehicle and your time.\n\n\n\n\n\n\n\n\n\n\n\n 
URL:https://www.pvca.org/event/annual-city-of-claremont-4th-of-july-parade-2025-07-04/
LOCATION:Wells Fargo PL\, 214 N Indian Hill Blvd\, Claremont\, CA\, 91711\, United States
CATEGORIES:Parade,PVCA Sponsored
END:VEVENT
END:VCALENDAR