BEGIN:VCALENDAR
VERSION:2.0
PRODID:-//PVCA - ECPv5.1.6//NONSGML v1.0//EN
CALSCALE:GREGORIAN
METHOD:PUBLISH
X-WR-CALNAME:PVCA
X-ORIGINAL-URL:https://www.pvca.org
X-WR-CALDESC:Events for PVCA
BEGIN:VTIMEZONE
TZID:America/Los_Angeles
BEGIN:DAYLIGHT
TZOFFSETFROM:-0800
TZOFFSETTO:-0700
TZNAME:PDT
DTSTART:20250309T100000
END:DAYLIGHT
BEGIN:STANDARD
TZOFFSETFROM:-0700
TZOFFSETTO:-0800
TZNAME:PST
DTSTART:20251102T090000
END:STANDARD
END:VTIMEZONE
BEGIN:VEVENT
DTSTART;TZID=America/Los_Angeles:20250510T110000
DTEND;TZID=America/Los_Angeles:20250510T140000
DTSTAMP:20260424T184341
CREATED:20250213T180759Z
LAST-MODIFIED:20250312T181759Z
UID:21821-1746874800-1746885600@www.pvca.org
SUMMARY:NCCC Governor's Meeting
DESCRIPTION:This a virtual meeting. A link and meeting time will be provided to members prior to the meeting.
URL:https://www.pvca.org/event/nccc-governors-meeting-9-2025-05-16/
LOCATION:CA\, United States
CATEGORIES:NCCC Meeting or Convention,PVCA Sponsored
END:VEVENT
BEGIN:VEVENT
DTSTART;TZID=America/Los_Angeles:20250510T163000
DTEND;TZID=America/Los_Angeles:20250510T210000
DTSTAMP:20260424T184341
CREATED:20250227T015117Z
LAST-MODIFIED:20250312T181858Z
UID:21883-1746894600-1746910800@www.pvca.org
SUMMARY:ROTOLO CRUISE NIGHT
DESCRIPTION:Join PVCA and other clubs for a night of cars\, food\, music\, and prizes. Admission is free. \nCorvette Parking is limited and opens at 5:00PM\, get there by 4:30PM to be sure you get a spot.
URL:https://www.pvca.org/event/rotolo-cruise-night-17-2025-05-10/
LOCATION:Rotolo Chevrolet\, 16666 S Highland Ave\, Fontana\, CA\, 92336\, United States
CATEGORIES:Cruise Night,PVCA Sponsored
GEO:34.1346159;-117.4404155
X-APPLE-STRUCTURED-LOCATION;VALUE=URI;X-ADDRESS=Rotolo Chevrolet 16666 S Highland Ave Fontana CA 92336 United States;X-APPLE-RADIUS=500;X-TITLE=16666 S Highland Ave:geo:-117.4404155,34.1346159
END:VEVENT
END:VCALENDAR