BEGIN:VCALENDAR
VERSION:2.0
PRODID:-//PVCA - ECPv5.1.6//NONSGML v1.0//EN
CALSCALE:GREGORIAN
METHOD:PUBLISH
X-WR-CALNAME:PVCA
X-ORIGINAL-URL:https://www.pvca.org
X-WR-CALDESC:Events for PVCA
BEGIN:VTIMEZONE
TZID:America/Los_Angeles
BEGIN:DAYLIGHT
TZOFFSETFROM:-0800
TZOFFSETTO:-0700
TZNAME:PDT
DTSTART:20250309T100000
END:DAYLIGHT
BEGIN:STANDARD
TZOFFSETFROM:-0700
TZOFFSETTO:-0800
TZNAME:PST
DTSTART:20251102T090000
END:STANDARD
END:VTIMEZONE
BEGIN:VEVENT
DTSTART;TZID=America/Los_Angeles:20250503T083000
DTEND;TZID=America/Los_Angeles:20250503T140000
DTSTAMP:20260425T043912
CREATED:20250418T184918Z
LAST-MODIFIED:20250422T135951Z
UID:22196-1746261000-1746280800@www.pvca.org
SUMMARY:FONTANA DAYS PARADE 2025
DESCRIPTION:“Dancing in the Street”\nSATURDAY\, MAY 3\, 2024\n\n8:30AM-2PM\n\n \n\nFontana Days Parade 2025 is sponsored by The Exchange Club of Fontana which is also proud to host the 112th Annual Fontana Days Festival. \nThe 2025 Fontana Days Festival Theme is: “DANCING IN THE STREET” which will take place on Saturday\, May 3th at 10 a.m. on the corner of Sierra Avenue and Arrow Boulevard. \nParticipants will travel south on Sierra to Merrill Avenue and then will head east to Veterans Park (an approximately one-mile trek). \nPVCA has been asked to supply convertibles and removable roof cars for Miss Fontana and her Court and Miss Teen Fontana and her Court.  We need 12-16 cars for the girls. In addition\, various City and County VIPs often need a ride\, we typically need 1-8 cars for this function. (Up to 24 cars total.) Any club cars that have a fixed roof are welcome in the parade\, and will represent PVCA\, but will not count towards the total. \nThe parade starts at 10am\nWe’ll meet at Rotolo Chevrolet at 8:30am and head down to the starting line of the parade route at Sierra and Arrow HWY in Fontana at 8:45.\nYou will need Seat cushions and towels or blankets for the girls or VIPs to sit on.  PVCA will provide two 10” round white low-tac vinyl parade stickers for each car.\n\n\nFOLLOWING THE PARADE\, WE WILL DRIVE TO OGGI’S ON THE CORNER OF SIERRA AND HIGHLAND FOR LUNCH @ 11:30AM. MIKE CAPOSIO AND ROTOLO CHEVROLET ARE GRACIOUSLY PROVIDING LUNCH (NO ALCOHOL).\n*IF YOU ARE JOINING US FOR LUNCH\, PLEASE INDICATE THAT IN THE COMMENTS SECTION. *
URL:https://www.pvca.org/event/fontana-days-parade-2025/
LOCATION:Rotolo Chevrolet\, 16666 S Highland Ave\, Fontana\, CA\, 92336\, United States
CATEGORIES:Parade,PVCA Sponsored
GEO:34.1346159;-117.4404155
X-APPLE-STRUCTURED-LOCATION;VALUE=URI;X-ADDRESS=Rotolo Chevrolet 16666 S Highland Ave Fontana CA 92336 United States;X-APPLE-RADIUS=500;X-TITLE=16666 S Highland Ave:geo:-117.4404155,34.1346159
END:VEVENT
END:VCALENDAR