BEGIN:VCALENDAR
VERSION:2.0
PRODID:-//PVCA - ECPv5.1.6//NONSGML v1.0//EN
CALSCALE:GREGORIAN
METHOD:PUBLISH
X-WR-CALNAME:PVCA
X-ORIGINAL-URL:https://www.pvca.org
X-WR-CALDESC:Events for PVCA
BEGIN:VTIMEZONE
TZID:UTC
BEGIN:STANDARD
TZOFFSETFROM:+0000
TZOFFSETTO:+0000
TZNAME:UTC
DTSTART:20170101T000000
END:STANDARD
END:VTIMEZONE
BEGIN:VEVENT
DTSTART;TZID=UTC:20170603T083000
DTEND;TZID=UTC:20170603T130000
DTSTAMP:20260419T225943
CREATED:20161231T044109Z
LAST-MODIFIED:20170602T010728Z
UID:1254-1496478600-1496494800@www.pvca.org
SUMMARY:Fontana Day Parade - Save the date
DESCRIPTION:The club has been asked to supply cars for the Miss Fontana Queen and her court as well as the various VIP in the parade.  Typically they need from 15 to 18 cars.  All cars are welcome and will be in the parade.  T-Tops and convertibles will be used for the VIPs and Miss Fontana and her court.  Any Corvettes with fixed roofs will represent PVCA in the parade. \nWe will meet at Rotolo Chevrolet at 8:30 and then head down to the staging area at Sierra and Arrow.   Please remember that the city has a Marathon that is run on Sierra Ave the day of the parade\, so please get off of the freeway at Citrus as Sierra will be closed. \nthe parade gets started at 11am \nAfter the parade we will meet for lunch at Applebees Fontana (North of the 210 Freeway at Sierra Ave and Sierra Lakes in the Lowes Parking lot)\, so if you can please join us \n  \n  \n 
URL:https://www.pvca.org/event/fontana-day-parade-save-the-date/
LOCATION:Rotolo Chevrolet\, 16666 S Highland Ave\, Fontana\, CA\, 92336\, United States
CATEGORIES:Parade
GEO:34.1346159;-117.4404155
X-APPLE-STRUCTURED-LOCATION;VALUE=URI;X-ADDRESS=Rotolo Chevrolet 16666 S Highland Ave Fontana CA 92336 United States;X-APPLE-RADIUS=500;X-TITLE=16666 S Highland Ave:geo:-117.4404155,34.1346159
END:VEVENT
END:VCALENDAR