BEGIN:VCALENDAR
VERSION:2.0
PRODID:-//PVCA - ECPv5.1.6//NONSGML v1.0//EN
CALSCALE:GREGORIAN
METHOD:PUBLISH
X-WR-CALNAME:PVCA
X-ORIGINAL-URL:https://www.pvca.org
X-WR-CALDESC:Events for PVCA
BEGIN:VTIMEZONE
TZID:America/Los_Angeles
BEGIN:DAYLIGHT
TZOFFSETFROM:-0800
TZOFFSETTO:-0700
TZNAME:PDT
DTSTART:20250309T100000
END:DAYLIGHT
BEGIN:STANDARD
TZOFFSETFROM:-0700
TZOFFSETTO:-0800
TZNAME:PST
DTSTART:20251102T090000
END:STANDARD
END:VTIMEZONE
BEGIN:VEVENT
DTSTART;TZID=America/Los_Angeles:20250502T190000
DTEND;TZID=America/Los_Angeles:20250502T220000
DTSTAMP:20260421T063021
CREATED:20250213T184628Z
LAST-MODIFIED:20250425T140729Z
UID:21832-1746212400-1746223200@www.pvca.org
SUMMARY:VIVA LAS VEGAS MOVIE SCREENING (RESCHEDULED)
DESCRIPTION:THIS EVENT IS RESCHEDULED TO MAY 2\n \n \nBackyard outdoor theater screening of Viva Las Vegas to get ready for our May road-trip. All PVCA members welcome regardless if you are going on the trip.\nDue to bad weather on 4/26\, this event is rescheduled to May 2\, 2025.\nPot-luck finger foods. Beverages will be provided.
URL:https://www.pvca.org/event/viva-las-vegas-movie-screening-tentative/
LOCATION:Upland\, Upland\, CA\, 91784\, United States
CATEGORIES:MOVIE DAY,PVCA Sponsored
ORGANIZER;CN="Charles%20A.":MAILTO:adamsocb@projectcba.com
GEO:34.1616368;-117.6552185
END:VEVENT
END:VCALENDAR