BEGIN:VCALENDAR
VERSION:2.0
PRODID:-//PVCA - ECPv5.1.6//NONSGML v1.0//EN
CALSCALE:GREGORIAN
METHOD:PUBLISH
X-WR-CALNAME:PVCA
X-ORIGINAL-URL:https://www.pvca.org
X-WR-CALDESC:Events for PVCA
BEGIN:VTIMEZONE
TZID:America/Los_Angeles
BEGIN:DAYLIGHT
TZOFFSETFROM:-0800
TZOFFSETTO:-0700
TZNAME:PDT
DTSTART:20250309T100000
END:DAYLIGHT
BEGIN:STANDARD
TZOFFSETFROM:-0700
TZOFFSETTO:-0800
TZNAME:PST
DTSTART:20251102T090000
END:STANDARD
END:VTIMEZONE
BEGIN:VEVENT
DTSTART;TZID=America/Los_Angeles:20250208T093000
DTEND;TZID=America/Los_Angeles:20250208T150000
DTSTAMP:20260423T122011
CREATED:20250113T174833Z
LAST-MODIFIED:20250113T220643Z
UID:21586-1739007000-1739026800@www.pvca.org
SUMMARY:MYSTEREY RUN AND LUNCH
DESCRIPTION:Rich & Jan would like you to join them for a great run\, for a scenic lunch overlooking a beautiful lake most of you have never seen. A nice ride with great views with our fine cars. \nMeeting time: 9:30 to leave at 10:00 AM \nMeet at: Business Park across from Park & Ride on Via Verde St. San Dimas \nBring radios and a full tank of gas.
URL:https://www.pvca.org/event/mystery-run-and-lunch/
LOCATION:San Dimas Corporate Plaza\, 160 Via Verde\, San Dimas\, CA\, 91773\, United States
CATEGORIES:Lunch - Social Event,Mystery Run,PVCA Sponsored
ORGANIZER;CN="Rich%20R.":MAILTO:rroyall@rpmrcproducts.com
END:VEVENT
END:VCALENDAR