BEGIN:VCALENDAR
VERSION:2.0
PRODID:-//PVCA - ECPv5.1.6//NONSGML v1.0//EN
CALSCALE:GREGORIAN
METHOD:PUBLISH
X-WR-CALNAME:PVCA
X-ORIGINAL-URL:https://www.pvca.org
X-WR-CALDESC:Events for PVCA
BEGIN:VTIMEZONE
TZID:America/Los_Angeles
BEGIN:DAYLIGHT
TZOFFSETFROM:-0800
TZOFFSETTO:-0700
TZNAME:PDT
DTSTART:20230312T100000
END:DAYLIGHT
BEGIN:STANDARD
TZOFFSETFROM:-0700
TZOFFSETTO:-0800
TZNAME:PST
DTSTART:20231105T090000
END:STANDARD
END:VTIMEZONE
BEGIN:VEVENT
DTSTART;TZID=America/Los_Angeles:20230427T104500
DTEND;TZID=America/Los_Angeles:20230427T153000
DTSTAMP:20260424T204219
CREATED:20230219T170318Z
LAST-MODIFIED:20230412T182215Z
UID:17030-1682592300-1682609400@www.pvca.org
SUMMARY:CORVETTE LUNCH RUN
DESCRIPTION:KELVIN AND TINA HAS PLANNED A LUNCH RUN TO TEMECULA WINE COUNTRY!\nWE WILL MEET AT LOGAN’S ROADHOUSE AT 10:45AM AND LEAVE AT 11:15AM FOR A COOL DRIVE TO THE TEMECULA WINE COUNTRY. \nALL INFORMATION AS FOLLOWS:\n  \nDate: Thursday\, April 27\, 2023 \nTime: 1:00 pm to 3:30 pm \nWhere: Lorimar Winery \nAddress: 39990 Anza Road\, Temecula\, CA 92591 \nPhone: (951) 694-6699 \nLorimar Winery Event Coordinator: Lori V.M.\, Ph: (951) 694-6699 x 109 \nMaximum Number of Guests: 40 (20 CARS) \nMenu: See Below \nEntertainment: Live music to-be-announced. Begins at 1:00 pm \nRequired Gratuity: 20% \nStart Of Run: Meet at 10:45am Logan’s Roadhouse\, 13480 Baseline Ave\, Fontana\, CA 92336 \nDeparture Time: Promptly at 11:15 am. \nLorimar Winery Menu
URL:https://www.pvca.org/event/corvette-lunch-run/
LOCATION:Former Logan’s Roadhouse\, 13480 Baseline Ave.\, Fontana\, CA\, 92336\, United States
CATEGORIES:Lunch - Social Event
GEO:34.122058;-117.5110371
X-APPLE-STRUCTURED-LOCATION;VALUE=URI;X-ADDRESS=Former Logan’s Roadhouse 13480 Baseline Ave. Fontana CA 92336 United States;X-APPLE-RADIUS=500;X-TITLE=13480 Baseline Ave.:geo:-117.5110371,34.122058
END:VEVENT
END:VCALENDAR