BEGIN:VCALENDAR
VERSION:2.0
PRODID:-//PVCA - ECPv5.1.6//NONSGML v1.0//EN
CALSCALE:GREGORIAN
METHOD:PUBLISH
X-WR-CALNAME:PVCA
X-ORIGINAL-URL:https://www.pvca.org
X-WR-CALDESC:Events for PVCA
BEGIN:VTIMEZONE
TZID:America/Los_Angeles
BEGIN:DAYLIGHT
TZOFFSETFROM:-0800
TZOFFSETTO:-0700
TZNAME:PDT
DTSTART:20220313T100000
END:DAYLIGHT
BEGIN:STANDARD
TZOFFSETFROM:-0700
TZOFFSETTO:-0800
TZNAME:PST
DTSTART:20221106T090000
END:STANDARD
END:VTIMEZONE
BEGIN:VEVENT
DTSTART;TZID=America/Los_Angeles:20220818T100000
DTEND;TZID=America/Los_Angeles:20220818T170000
DTSTAMP:20260425T080809
CREATED:20220710T004648Z
LAST-MODIFIED:20220810T232810Z
UID:15221-1660816800-1660842000@www.pvca.org
SUMMARY:LONG BEACH LUNCH RUN
DESCRIPTION:KELVIN AND TINA’S LONG BEACH LUNCH RUN\nTHIS RUN IS LIMITED TO A MAXIMUM OF 30 PEOPLE!\n    Date: Thursday\, August 18\, 2022\n               Time: 12:00 pm\n               Name Of Restaurant: Fuego\n               Location: In the Hotel Maya\, 700 Queensway Dr\, Long Beach\, CA 90802\n               Google Drive Link To Photos I’ve Taken At Fuego Restaurant: https://drive.google.com/drive/folders/1xf4hS0T3ruX6-lF6MqjpbCO-KJisd2pg?usp=sharing \nMaximum Number Of Guests: 25\nMenu: SEE BELOW \nRequired Tip: 20% \nRestaurant Contact Information: Miguel\, Manager\, (562) 435-7676 \nLocation For Start Of Run:  WENDY’S RESTAURANT 2119 BASELINE ROAD\, UPLAND\, CA. 91784 (SYCAMORE HILLS PLAZA)\nTime For Start Of Run: Arrive at 10:00 am and depart sharply at 10:30 am. Note that Google Maps says that it will take anywhere from 1 hour & 10 minutes to 1 hour & 50 minutes arrive by 1PM.\nPARKING FEE WITH VALIDATION WILL BE $2.00.  \n  \n  \nFuego Lunch Menu
URL:https://www.pvca.org/event/long-beach-lunch-run/
LOCATION:FUEGO\, 700 QUEENSWAY DR\, LONG BEACH\, CA\, 90802\, United States
CATEGORIES:Lunch - Social Event
GEO:33.7571472;-118.1984284
X-APPLE-STRUCTURED-LOCATION;VALUE=URI;X-ADDRESS=FUEGO 700 QUEENSWAY DR LONG BEACH CA 90802 United States;X-APPLE-RADIUS=500;X-TITLE=700 QUEENSWAY DR:geo:-118.1984284,33.7571472
END:VEVENT
END:VCALENDAR