BEGIN:VCALENDAR
VERSION:2.0
PRODID:-//PVCA - ECPv5.1.6//NONSGML v1.0//EN
CALSCALE:GREGORIAN
METHOD:PUBLISH
X-WR-CALNAME:PVCA
X-ORIGINAL-URL:https://www.pvca.org
X-WR-CALDESC:Events for PVCA
BEGIN:VTIMEZONE
TZID:America/Los_Angeles
BEGIN:DAYLIGHT
TZOFFSETFROM:-0800
TZOFFSETTO:-0700
TZNAME:PDT
DTSTART:20220313T100000
END:DAYLIGHT
BEGIN:STANDARD
TZOFFSETFROM:-0700
TZOFFSETTO:-0800
TZNAME:PST
DTSTART:20221106T090000
END:STANDARD
END:VTIMEZONE
BEGIN:VEVENT
DTSTART;TZID=America/Los_Angeles:20220521T203000
DTEND;TZID=America/Los_Angeles:20220521T233000
DTSTAMP:20260425T174604
CREATED:20220130T185705Z
LAST-MODIFIED:20220301T153859Z
UID:14406-1653165000-1653175800@www.pvca.org
SUMMARY:PARANORMAL EVENT AT MARCH AIR MUSEUM
DESCRIPTION:PARANORMAL NIGHT AT MARCH FIELD\nSATURDAY\, MAY 21\, 2022\, 830PM TO 1130PM\nClub members have an opportunity to attend an exclusive\, members only\, paranormal investigation at the March Field Air Museum to be held on May 21\, 2022\, from 8:30 pm until 11:30 pm\, $50.00 per person.  As before\, wear comfortable clothing and shoes suitable for walking the flight line and climbing on and off aircraft.  Cameras and tape recorders are encouraged\, and club members will be allowed to use the paranormal team’s equipment as well.  Attendance is limited to 20 members only. \nThe members only also applies to their family members as well.\nMeeting location to be determined.   \nLINK TO PAYMENT: \nAir Museum | Ticketing (veevartapp.com) \n(Disregard log-in\, go directly to payment section  Call Mikey @ 213-215-8525\, if you have any questions.) \n 
URL:https://www.pvca.org/event/paranormal-event-at-march-air-museum/
LOCATION:March Air Force Museum\, 22550 Van Buren Boulevard\,  \, March Air Force Reserve\, CA\, 92518\, United States
CATEGORIES:Great Events
GEO:33.8827067;-117.2666744
X-APPLE-STRUCTURED-LOCATION;VALUE=URI;X-ADDRESS=March Air Force Museum 22550 Van Buren Boulevard   March Air Force Reserve CA 92518 United States;X-APPLE-RADIUS=500;X-TITLE=22550 Van Buren Boulevard\,:geo:-117.2666744,33.8827067
END:VEVENT
END:VCALENDAR