BEGIN:VCALENDAR
VERSION:2.0
PRODID:-//PVCA - ECPv5.1.6//NONSGML v1.0//EN
CALSCALE:GREGORIAN
METHOD:PUBLISH
X-WR-CALNAME:PVCA
X-ORIGINAL-URL:https://www.pvca.org
X-WR-CALDESC:Events for PVCA
BEGIN:VTIMEZONE
TZID:America/Los_Angeles
BEGIN:DAYLIGHT
TZOFFSETFROM:-0800
TZOFFSETTO:-0700
TZNAME:PDT
DTSTART:20240310T100000
END:DAYLIGHT
BEGIN:STANDARD
TZOFFSETFROM:-0700
TZOFFSETTO:-0800
TZNAME:PST
DTSTART:20241103T090000
END:STANDARD
END:VTIMEZONE
BEGIN:VEVENT
DTSTART;TZID=America/Los_Angeles:20241003T091500
DTEND;TZID=America/Los_Angeles:20241003T150000
DTSTAMP:20260423T232301
CREATED:20240813T164056Z
LAST-MODIFIED:20240815T222701Z
UID:20518-1727946900-1727967600@www.pvca.org
SUMMARY:SCENIC DRIVE AND LUNCH TO OAK GLEN
DESCRIPTION:JOIN JEFF AND BEVERLY CHODOS AS THEY TAKE US ON A SCENIC DRIVE TO OAK GLEN\nTHURSDAY\, OCTOBER 3\, 2024\nMEETING AT 9:15 AM\n AT LOGAN’S ROADHOUSE \nTRAVELING TO LOS RIOS RANCHO\n39611 OAK GLEN ROAD #13\, \nOAK GLEN\, CA\n92399\n\n\nThursday\, October 3 is an excellent time to come.  Avoid the weekends due to high congestion.\nParking is on asphalt and can accommodate up to 80 cars. If we arrive around 11:00 a.m.\, parking should not be a problem for the club.\nFood can be purchased at the Orchard’s kitchen (IN/AT LOS RIOS RANCHO).  The menu can be reviewed online. Individuals can buy their meals at the window\, and seating is available as a group at the\n\npicnic tables. \n\nPicnic tables are on grass areas\, and tables and chairs are available outside the kitchen. Additional tables and chairs are inside the shopping area (tent) for snacks.\nIndoor restrooms\n\nThings to do:\n\nApple orchards open for apple picking.  Check-in at the counter for directions on where to go.  You will receive a paper bag for apples.  You can pick as many apples as you want.\n\nCome back\, weigh the apples\, and pay for apples at the counter. \n\nIndoor shopping (tent)\, shopping carts are available for serious shoppers 😊\nPetting Zoo\nHiking Trails\nOak Glen Preserve\n\nCruise Details:\n\nThe round-trip cruise is approximately 120 miles.\nWe plan on using two cruise routes.  One route is from Logan’s Roadhouse Restaurant to Oak Glen\, and the other is from Oak Glen home via the 10 Fwy.  The reason is to offer a complete view of the Oak Glen area.\n\n\nWritten directions will be provided on the day of the cruise\, and we have already identified places to pull over to allow for “car catch-up.”\nWe do not plan on making this a race. A few areas are a little bumpy\, but that should not be a problem for Corvettes.\nWe plan to arrive as a group and have lunch together.  We can cruise back as a group or return home on our own.\n\n\nBRING YOUR RADIOS
URL:https://www.pvca.org/event/scenic-drive-and-lunch-to-oak-glen/
LOCATION:Former Logan’s Roadhouse\, 13480 Baseline Ave.\, Fontana\, CA\, 92336\, United States
CATEGORIES:FUN RUN
GEO:34.122058;-117.5110371
X-APPLE-STRUCTURED-LOCATION;VALUE=URI;X-ADDRESS=Former Logan’s Roadhouse 13480 Baseline Ave. Fontana CA 92336 United States;X-APPLE-RADIUS=500;X-TITLE=13480 Baseline Ave.:geo:-117.5110371,34.122058
END:VEVENT
END:VCALENDAR