BEGIN:VCALENDAR
VERSION:2.0
PRODID:-//PVCA - ECPv5.1.6//NONSGML v1.0//EN
CALSCALE:GREGORIAN
METHOD:PUBLISH
X-WR-CALNAME:PVCA
X-ORIGINAL-URL:https://www.pvca.org
X-WR-CALDESC:Events for PVCA
BEGIN:VTIMEZONE
TZID:America/Los_Angeles
BEGIN:DAYLIGHT
TZOFFSETFROM:-0800
TZOFFSETTO:-0700
TZNAME:PDT
DTSTART:20180311T100000
END:DAYLIGHT
BEGIN:STANDARD
TZOFFSETFROM:-0700
TZOFFSETTO:-0800
TZNAME:PST
DTSTART:20181104T090000
END:STANDARD
END:VTIMEZONE
BEGIN:VEVENT
DTSTART;TZID=America/Los_Angeles:20180227T180000
DTEND;TZID=America/Los_Angeles:20180227T200000
DTSTAMP:20260421T050758
CREATED:20180124T051701Z
LAST-MODIFIED:20180126T031302Z
UID:5453-1519754400-1519761600@www.pvca.org
SUMMARY:Tenderloin Restaurant February 4th Tuesday Social Dinner
DESCRIPTION:Richard and Jan R would like everyone to join them for some “down home cooking” at The Tenderloin Restaurant\, 2080 Foothill Blvd.\, La Verne.  They have arranged for a room for 40 people.  Please sign up so they can give the restaurant a head count a few days before our dinner.  Dinner will be at 6:00 PM
URL:https://www.pvca.org/event/february-4th-tuesday-social-dinner/
LOCATION:Tenderloin Restaurant\, 2080 Foothill Blvd.\, La Verne\, CA\, United States
CATEGORIES:Dinner - Social Event
GEO:34.1131181;-117.7670248
X-APPLE-STRUCTURED-LOCATION;VALUE=URI;X-ADDRESS=Tenderloin Restaurant 2080 Foothill Blvd. La Verne CA United States;X-APPLE-RADIUS=500;X-TITLE=2080 Foothill Blvd.:geo:-117.7670248,34.1131181
END:VEVENT
END:VCALENDAR