BEGIN:VCALENDAR
VERSION:2.0
PRODID:-//PVCA - ECPv5.1.6//NONSGML v1.0//EN
CALSCALE:GREGORIAN
METHOD:PUBLISH
X-WR-CALNAME:PVCA
X-ORIGINAL-URL:https://www.pvca.org
X-WR-CALDESC:Events for PVCA
BEGIN:VTIMEZONE
TZID:America/Los_Angeles
BEGIN:DAYLIGHT
TZOFFSETFROM:-0800
TZOFFSETTO:-0700
TZNAME:PDT
DTSTART:20180311T100000
END:DAYLIGHT
BEGIN:STANDARD
TZOFFSETFROM:-0700
TZOFFSETTO:-0800
TZNAME:PST
DTSTART:20181104T090000
END:STANDARD
END:VTIMEZONE
BEGIN:VEVENT
DTSTART;TZID=America/Los_Angeles:20180123T180000
DTEND;TZID=America/Los_Angeles:20180123T200000
DTSTAMP:20260424T201741
CREATED:20180103T045911Z
LAST-MODIFIED:20180103T165541Z
UID:5300-1516730400-1516737600@www.pvca.org
SUMMARY:Dinner at Islamorada Fish Company
DESCRIPTION:PVCA members: \nPlease mark your calendars for the first 2018 4th Tuesday Dinner on Tuesday\, January 23\, 2018. \nShirley and I would like you to join us for dinner at the Islamorada Fish Company at Bass Pro Shops\, 7777 Victoria Gardens Ln\, Rancho Cucamonga\, CA 91739. \nWe have arranged for room for 40 people so please sign up early so I can get the restaurant a total head count a couple of days before the dinner. \nWe hope to see you there!
URL:https://www.pvca.org/event/dinner-at-islamorada-fish-company/
CATEGORIES:Dinner - Social Event
END:VEVENT
END:VCALENDAR