BEGIN:VCALENDAR
VERSION:2.0
PRODID:-//PVCA - ECPv5.1.6//NONSGML v1.0//EN
CALSCALE:GREGORIAN
METHOD:PUBLISH
X-WR-CALNAME:PVCA
X-ORIGINAL-URL:https://www.pvca.org
X-WR-CALDESC:Events for PVCA
BEGIN:VTIMEZONE
TZID:America/Los_Angeles
BEGIN:DAYLIGHT
TZOFFSETFROM:-0800
TZOFFSETTO:-0700
TZNAME:PDT
DTSTART:20170312T100000
END:DAYLIGHT
BEGIN:STANDARD
TZOFFSETFROM:-0700
TZOFFSETTO:-0800
TZNAME:PST
DTSTART:20171105T090000
END:STANDARD
END:VTIMEZONE
BEGIN:VEVENT
DTSTART;TZID=America/Los_Angeles:20171202T180000
DTEND;TZID=America/Los_Angeles:20171202T180000
DTSTAMP:20260420T011405
CREATED:20170217T195118Z
LAST-MODIFIED:20171110T174350Z
UID:2092-1512237600-1512237600@www.pvca.org
SUMMARY:Christmas Party Double Tree Hotel\, in Claremont
DESCRIPTION:The party will be held at the Double Tree Hotel\, in Claremont\, December 2nd\, 6:00 pm to midnight. \nDinner will include appetizers\, a buffet including beef\, chicken and a plated vegetarian dish.  If you desire a vegetarian dish this MUST BE ORDERED BY\, NOVEMBER 15TH.  The buffet will also include\, soup\, choice of two salads\, rice\, potatoes and vegetables.  There will be a selection of Holiday cakes and pastries for dessert. \nThere will be a no host bar\, closing at 11:00 p.m. If you choose to bring your own wine\, the corking fee is $12.00 per bottle. \nThere will be music and dancing\, raffle prizes\, the 100/0 raffle and Mikey will have the awards ceremony following dinner. \nThere will be rooms available for the night at $129.00 plus tax.  ROOMS MUST BE BOOKED BY NOVEMBER 2ND\, to get the group rate. \nThe cost to the members is $25.00 per person and $55.00 per guest.  All club dues and party cost must be paid to Kim B BY OUR NOVEMBER CLUB MEETING ON THE 14TH. ALL FEES ARE PAID TO Kim B ONLY.  We will also be raffling off a free room for the night\, at our November Club Meeting.
URL:https://www.pvca.org/event/christmas-party/
CATEGORIES:Dinner - Social Event
END:VEVENT
END:VCALENDAR