BEGIN:VCALENDAR
VERSION:2.0
PRODID:-//PVCA - ECPv5.1.6//NONSGML v1.0//EN
CALSCALE:GREGORIAN
METHOD:PUBLISH
X-WR-CALNAME:PVCA
X-ORIGINAL-URL:https://www.pvca.org
X-WR-CALDESC:Events for PVCA
BEGIN:VTIMEZONE
TZID:America/Los_Angeles
BEGIN:DAYLIGHT
TZOFFSETFROM:-0800
TZOFFSETTO:-0700
TZNAME:PDT
DTSTART:20190310T100000
END:DAYLIGHT
BEGIN:STANDARD
TZOFFSETFROM:-0700
TZOFFSETTO:-0800
TZNAME:PST
DTSTART:20191103T090000
END:STANDARD
END:VTIMEZONE
BEGIN:VEVENT
DTSTART;TZID=America/Los_Angeles:20190108T173000
DTEND;TZID=America/Los_Angeles:20190108T190000
DTSTAMP:20260425T202304
CREATED:20190103T040546Z
LAST-MODIFIED:20190103T040546Z
UID:8099-1546968600-1546974000@www.pvca.org
SUMMARY:Taco Tuesday Dinner before the Meeting
DESCRIPTION:Please sign up for dinner if you are coming so we can help the Elk’s club plan for how much food they will need to have on hand. \nOntario Elks Lodge 1150 W. 4th St. Ontario \n\nTACO TUESDAY MENU $6.00 each  please bring cash to pay for your meal\nAll items include rice and beans\nDINNER PLATES\n2 Tacos- hard shell or soft shell\nChicken Fajitas\nCheese or meat Enchilada\nChili Verde\nTaco Bowl\nBurrito\nQuesadilla with Meat\nChoice of Meats\nGround Beef\nChicken\nCarnitas
URL:https://www.pvca.org/event/taco-tuesday-dinner-before-the-meeting-14/
LOCATION:Elk’s Lodge in Ontario\, 1150 W. 4th St.\, Ontario\, CA\, 91762\, United States
CATEGORIES:Club Meeting,Dinner - Social Event
GEO:34.07825;-117.6721023
X-APPLE-STRUCTURED-LOCATION;VALUE=URI;X-ADDRESS=Elk’s Lodge in Ontario 1150 W. 4th St. Ontario CA 91762 United States;X-APPLE-RADIUS=500;X-TITLE=1150 W. 4th St.:geo:-117.6721023,34.07825
END:VEVENT
BEGIN:VEVENT
DTSTART;TZID=America/Los_Angeles:20190108T190000
DTEND;TZID=America/Los_Angeles:20190108T203000
DTSTAMP:20260425T202304
CREATED:20190103T040317Z
LAST-MODIFIED:20190103T040317Z
UID:8095-1546974000-1546979400@www.pvca.org
SUMMARY:Club Meeting
DESCRIPTION:PVCA’s general membership meetings are held at the Elk’s Lodge in Ontario.  1150 W. 4th St\, Ontario\, 91762. (south of the 10 Freeway and West of Mountain Ave). Meetings are held on the 2nd Tuesday of every Month with a start time of 7:00 PM. \nGuests or anyone that is interested in becoming part of the club is encouraged to come to a meeting so you can get to know us. \nCome early if you want at the Elks’ Lodge for an excellent Taco Tuesday’s meal.  Restaurant and bar are cash only.   Please sign up for Taco Tuesday separately if you plan on eating so we know how many members will be there for dinner and the Elks can properly plan staff and food.
URL:https://www.pvca.org/event/club-meeting-10/
LOCATION:Elk’s Lodge in Ontario\, 1150 W. 4th St.\, Ontario\, CA\, 91762\, United States
CATEGORIES:Club Meeting
GEO:34.07825;-117.6721023
X-APPLE-STRUCTURED-LOCATION;VALUE=URI;X-ADDRESS=Elk’s Lodge in Ontario 1150 W. 4th St. Ontario CA 91762 United States;X-APPLE-RADIUS=500;X-TITLE=1150 W. 4th St.:geo:-117.6721023,34.07825
END:VEVENT
END:VCALENDAR