BEGIN:VCALENDAR
VERSION:2.0
PRODID:-//PVCA - ECPv5.1.6//NONSGML v1.0//EN
CALSCALE:GREGORIAN
METHOD:PUBLISH
X-WR-CALNAME:PVCA
X-ORIGINAL-URL:https://www.pvca.org
X-WR-CALDESC:Events for PVCA
BEGIN:VTIMEZONE
TZID:America/Los_Angeles
BEGIN:DAYLIGHT
TZOFFSETFROM:-0800
TZOFFSETTO:-0700
TZNAME:PDT
DTSTART:20250309T100000
END:DAYLIGHT
BEGIN:STANDARD
TZOFFSETFROM:-0700
TZOFFSETTO:-0800
TZNAME:PST
DTSTART:20251102T090000
END:STANDARD
END:VTIMEZONE
BEGIN:VEVENT
DTSTART;TZID=America/Los_Angeles:20251214T113000
DTEND;TZID=America/Los_Angeles:20251214T150000
DTSTAMP:20260419T132550
CREATED:20250410T161839Z
LAST-MODIFIED:20251129T182146Z
UID:22165-1765711800-1765724400@www.pvca.org
SUMMARY:ANNUAL PVCA CHRISTMAS PARTY
DESCRIPTION:CLICK HERE TO PAY\nCHRISTMAS PARTY\nat the\nHISTORIC SYCAMORE INN\nSUNDAY\, DECEMBER 14\, 2025\nDoors will open at 11:30am\nCost is $25.00 per member and $30 for non-members (MUST BE GUEST OF A MEMBER)\nPayment needs to be received by December 1st.\nALL NON HOSTED BAR\, HAPPY HOUR PRICING\nBRINGING IN WINE $25 Corkage EACH\nSTARTERS (choice of one)\nSYCAMORE SALAD OR MINESTRONE SOUP \nENTRÉE (choice of one)\nFILET MIGNON MEDALIONS\nSALMON Filet\n(If you want Salmon PLEASE let us know by Dec\, 1st\nand put it in the comments on your RSVP when signing up)\nHERB ROASTED CHICKEN\nVEGETARIAN PASTA\nSeasonal Vegetables & Mashed Potatoes\nHot Sourdough Rolls and Butter \nDESSERT\nCLASSIC CHEESE CAKE \n 
URL:https://www.pvca.org/event/annual-pvca-christmas-party/
LOCATION:Sycamore Inn\, 8318 Foothill Blvd.\, Rancho Cucamonga\, CA\, 91730\, United States
CATEGORIES:Christmas Party,PVCA Sponsored
ORGANIZER;CN="Sue%20M":MAILTO:suemcelroy2013@yahoo.com
GEO:34.105583;-117.623452
X-APPLE-STRUCTURED-LOCATION;VALUE=URI;X-ADDRESS=Sycamore Inn 8318 Foothill Blvd. Rancho Cucamonga CA 91730 United States;X-APPLE-RADIUS=500;X-TITLE=8318 Foothill Blvd.:geo:-117.623452,34.105583
END:VEVENT
END:VCALENDAR