BEGIN:VCALENDAR
VERSION:2.0
PRODID:-//PVCA - ECPv5.1.6//NONSGML v1.0//EN
CALSCALE:GREGORIAN
METHOD:PUBLISH
X-WR-CALNAME:PVCA
X-ORIGINAL-URL:https://www.pvca.org
X-WR-CALDESC:Events for PVCA
BEGIN:VTIMEZONE
TZID:America/Los_Angeles
BEGIN:DAYLIGHT
TZOFFSETFROM:-0800
TZOFFSETTO:-0700
TZNAME:PDT
DTSTART:20240310T100000
END:DAYLIGHT
BEGIN:STANDARD
TZOFFSETFROM:-0700
TZOFFSETTO:-0800
TZNAME:PST
DTSTART:20241103T090000
END:STANDARD
END:VTIMEZONE
BEGIN:VEVENT
DTSTART;TZID=America/Los_Angeles:20240326T173000
DTEND;TZID=America/Los_Angeles:20240326T210000
DTSTAMP:20260425T203918
CREATED:20240316T035838Z
LAST-MODIFIED:20240325T204456Z
UID:19693-1711474200-1711486800@www.pvca.org
SUMMARY:Q1 E-BOARD MEETING
DESCRIPTION:E-BOARD WILL BE MEETING AT:\nMIMI’S CAFE\n10909 FOOTHILL BLVD\, RANCHO CUCAMONGA\, CA 91730\n5:30PM-9PM\nAGENDA EMAILED TO MEMBERS\nALL MEMBERS WELCOME\nPLEASE RSVP FOR A PROPER HEADCOUNT
URL:https://www.pvca.org/event/q1-e-board-meeting/
LOCATION:MIMI’S CAFE RANCHO CUCAMONGA\, 10909 FOOTHILL BLVD\, RANCHO CUCAMONGA\, 91730
CATEGORIES:E-Board Meeting
ORGANIZER;CN="Charles%20A.":MAILTO:adamsocb@projectcba.com
END:VEVENT
END:VCALENDAR