BEGIN:VCALENDAR
VERSION:2.0
PRODID:-//PVCA - ECPv5.1.6//NONSGML v1.0//EN
CALSCALE:GREGORIAN
METHOD:PUBLISH
X-WR-CALNAME:PVCA
X-ORIGINAL-URL:https://www.pvca.org
X-WR-CALDESC:Events for PVCA
BEGIN:VTIMEZONE
TZID:America/Los_Angeles
BEGIN:DAYLIGHT
TZOFFSETFROM:-0800
TZOFFSETTO:-0700
TZNAME:PDT
DTSTART:20240310T100000
END:DAYLIGHT
BEGIN:STANDARD
TZOFFSETFROM:-0700
TZOFFSETTO:-0800
TZNAME:PST
DTSTART:20241103T090000
END:STANDARD
END:VTIMEZONE
BEGIN:VEVENT
DTSTART;TZID=America/Los_Angeles:20241019T180000
DTEND;TZID=America/Los_Angeles:20241019T210000
DTSTAMP:20260424T004101
CREATED:20240909T221100Z
LAST-MODIFIED:20241006T165105Z
UID:20654-1729360800-1729371600@www.pvca.org
SUMMARY:WILSON HIGH SCHOOL HOMECOMING
DESCRIPTION:SATURDAY\, OCTOBER 19\, 2024\n7PM-930PM\nSOMETHING DIFFERENT THIS YEAR!\nTHE FOOBALL FIELD IS UNDER CONSTRUCTION\, SO THERE WILL BE A PARADE IN THE PARKING LOT IN THE EVENING\nWe have received a request from Patricia Branconier-Habash\, ASB Director of Glen A Wilson HS for 5+1 Corvettes for their Homecoming parade on SATURDAY\, OCTOBER 19\, 2024.    Just a reminder\, the extra Corvette provides a spare in case someone has car trouble or gets hung up in traffic or at work.\n\n\nWe will pre-stage in the Puente Hills Mall parking lot behind the Jimmy John’s restaurant at 6:15 PM\, drivers meeting at 6:30 PM then proceed to the HS to arrive at 6:45 PM.\nJimmy John’s Restaurant: 1552 S Azusa Ave Unit D\, City of Industry\, Ca 91748.  \n\n\nDirection to Jimmy Johns:\nTake the 60 Freeway West and exit on Azusa Ave.\nTurn left on Azusa Ave. and go south to the second signal\, Pepper Brook Way.\nTurn left into the Puente Hills Mall parking lot and park in the malls parking lot behind the Jimmy John’s restaurant.\\n\n\nPLEASE BRING YOUR RADIOS\n 
URL:https://www.pvca.org/event/wilson-high-school-homecoming-6/
LOCATION:Wilson High School\, 16455 Wedgeworth Dr\, Hacienda Heights\, CA\, 91745\, United States
CATEGORIES:HOMECOMING PARADE
GEO:33.9993293;-117.945921
X-APPLE-STRUCTURED-LOCATION;VALUE=URI;X-ADDRESS=Wilson High School 16455 Wedgeworth Dr Hacienda Heights CA 91745 United States;X-APPLE-RADIUS=500;X-TITLE=16455 Wedgeworth Dr:geo:-117.945921,33.9993293
END:VEVENT
END:VCALENDAR