BEGIN:VCALENDAR
VERSION:2.0
PRODID:-//PVCA - ECPv5.1.6//NONSGML v1.0//EN
CALSCALE:GREGORIAN
METHOD:PUBLISH
X-WR-CALNAME:PVCA
X-ORIGINAL-URL:https://www.pvca.org
X-WR-CALDESC:Events for PVCA
BEGIN:VTIMEZONE
TZID:America/Los_Angeles
BEGIN:DAYLIGHT
TZOFFSETFROM:-0800
TZOFFSETTO:-0700
TZNAME:PDT
DTSTART:20220313T100000
END:DAYLIGHT
BEGIN:STANDARD
TZOFFSETFROM:-0700
TZOFFSETTO:-0800
TZNAME:PST
DTSTART:20221106T090000
END:STANDARD
END:VTIMEZONE
BEGIN:VEVENT
DTSTART;TZID=America/Los_Angeles:20221104T150000
DTEND;TZID=America/Los_Angeles:20221104T200000
DTSTAMP:20260425T072641
CREATED:20221009T173944Z
LAST-MODIFIED:20221010T012502Z
UID:15750-1667574000-1667592000@www.pvca.org
SUMMARY:Via Verde Plaza Classic Car Cruise Night
DESCRIPTION:Via Verde Plaza Classic Cruise Car Cruise Night \nIn the Vons Shopping Center \n1190 Via Verde.\nSan Dimas\,CA 91773 \n  \nCal Rods said if we tell them how many cars will be coming they will reserve an area for us.
URL:https://www.pvca.org/event/via-verde-plaza-classic-car-cruise-night/
LOCATION:Via Verde Shopping Center\, 1190 Via Verde\, San Dimas\, CA\, 91773\, United States
CATEGORIES:Cruise Night
ORGANIZER;CN="Doug%20M.":MAILTO:dougmcelroy2000@yahoo.com
GEO:34.0721163;-117.8297233
X-APPLE-STRUCTURED-LOCATION;VALUE=URI;X-ADDRESS=Via Verde Shopping Center 1190 Via Verde San Dimas CA 91773 United States;X-APPLE-RADIUS=500;X-TITLE=1190 Via Verde:geo:-117.8297233,34.0721163
END:VEVENT
END:VCALENDAR