BEGIN:VCALENDAR
VERSION:2.0
PRODID:-//PVCA - ECPv5.1.6//NONSGML v1.0//EN
CALSCALE:GREGORIAN
METHOD:PUBLISH
X-WR-CALNAME:PVCA
X-ORIGINAL-URL:https://www.pvca.org
X-WR-CALDESC:Events for PVCA
BEGIN:VTIMEZONE
TZID:America/Los_Angeles
BEGIN:DAYLIGHT
TZOFFSETFROM:-0800
TZOFFSETTO:-0700
TZNAME:PDT
DTSTART:20250309T100000
END:DAYLIGHT
BEGIN:STANDARD
TZOFFSETFROM:-0700
TZOFFSETTO:-0800
TZNAME:PST
DTSTART:20251102T090000
END:STANDARD
END:VTIMEZONE
BEGIN:VEVENT
DTSTART;TZID=America/Los_Angeles:20251024T181500
DTEND;TZID=America/Los_Angeles:20251024T210000
DTSTAMP:20260423T031004
CREATED:20250916T003639Z
LAST-MODIFIED:20251024T190216Z
UID:23089-1761329700-1761339600@www.pvca.org
SUMMARY:UPLAND HIGH SCHOOL HOMECOMING
DESCRIPTION:FRIDAY\, OCTOBER 24\, 2025\n6:15 PM-9:00 PM\n6 + 1 CARS NEEDED\n  \nWE HAVE JUST RECEIVED A REQUEST FOR UPLAND HIGH SCHOOL’S HOMECOMING.  WE HAVEN’T HAD THIS SCHOOL FOR A NUMBER OF YEARS.\nWe will pre-stage at 6:15 pm behind the B of A Bank on the southwest corner of Foothill and Euclid. Drivers meeting at 6:30 pm then proceed to UPLAND HS for the game.\nThe B of A is located at:  40 Foothill Blvd\, Upland\, CA 91786.\nPLEASE BRING YOUR RADIOS\, DL\, and insurance card\n  \nWE WILL BE MEETING AT COCO’S RESTAURANT AFTER THE HOMECOMING\nLOCATED AT 60 W FOOTHILL BLVD\, UPLAND\, CA  91786\nTHE SAME CENTER AS THE BANK OF AMERICA\n 
URL:https://www.pvca.org/event/upland-high-school-homecoming/
LOCATION:UPLAND HIGH SCHOOL\, 565 W 11th Street\, UPLAND\, CA\, United States
CATEGORIES:Homecoming
END:VEVENT
END:VCALENDAR