BEGIN:VCALENDAR
VERSION:2.0
PRODID:-//PVCA - ECPv5.1.6//NONSGML v1.0//EN
CALSCALE:GREGORIAN
METHOD:PUBLISH
X-WR-CALNAME:PVCA
X-ORIGINAL-URL:https://www.pvca.org
X-WR-CALDESC:Events for PVCA
BEGIN:VTIMEZONE
TZID:America/Los_Angeles
BEGIN:DAYLIGHT
TZOFFSETFROM:-0800
TZOFFSETTO:-0700
TZNAME:PDT
DTSTART:20250309T100000
END:DAYLIGHT
BEGIN:STANDARD
TZOFFSETFROM:-0700
TZOFFSETTO:-0800
TZNAME:PST
DTSTART:20251102T090000
END:STANDARD
END:VTIMEZONE
BEGIN:VEVENT
DTSTART;TZID=America/Los_Angeles:20251017T183000
DTEND;TZID=America/Los_Angeles:20251017T213000
DTSTAMP:20260423T061935
CREATED:20250805T204419Z
LAST-MODIFIED:20250930T161142Z
UID:22715-1760725800-1760736600@www.pvca.org
SUMMARY:SOUTH HILLS HIGH SCHOOL HOMECOMING
DESCRIPTION:Five cars plus one backup\, six total\, requested\nWe will meet in the South parking lot of CVS on the corner of Citrus and Rowland at 6:30 to leave by 6:45\nPLEASE BRING YOUR RADIOS\, DL\, and Insurance Card
URL:https://www.pvca.org/event/south-hills-high-school-homecoming-6/
LOCATION:COVINA DISTRICT FIELD\, 220 W. PUENTE ST.\, COVINA\, CA\, 91723\, United States
CATEGORIES:Homecoming,PVCA Sponsored
ORGANIZER;CN="Rich%20R.":MAILTO:rroyall@rpmrcproducts.com
GEO:34.0824968;-117.8931886
X-APPLE-STRUCTURED-LOCATION;VALUE=URI;X-ADDRESS=COVINA DISTRICT FIELD 220 W. PUENTE ST. COVINA CA 91723 United States;X-APPLE-RADIUS=500;X-TITLE=220 W. PUENTE ST.:geo:-117.8931886,34.0824968
END:VEVENT
END:VCALENDAR