BEGIN:VCALENDAR
VERSION:2.0
PRODID:-//PVCA - ECPv5.1.6//NONSGML v1.0//EN
CALSCALE:GREGORIAN
METHOD:PUBLISH
X-WR-CALNAME:PVCA
X-ORIGINAL-URL:https://www.pvca.org
X-WR-CALDESC:Events for PVCA
BEGIN:VTIMEZONE
TZID:America/Los_Angeles
BEGIN:DAYLIGHT
TZOFFSETFROM:-0800
TZOFFSETTO:-0700
TZNAME:PDT
DTSTART:20240310T100000
END:DAYLIGHT
BEGIN:STANDARD
TZOFFSETFROM:-0700
TZOFFSETTO:-0800
TZNAME:PST
DTSTART:20241103T090000
END:STANDARD
END:VTIMEZONE
BEGIN:VEVENT
DTSTART;TZID=America/Los_Angeles:20240613T113000
DTEND;TZID=America/Los_Angeles:20240613T153000
DTSTAMP:20260419T131949
CREATED:20240214T212107Z
LAST-MODIFIED:20240214T212107Z
UID:19555-1718278200-1718292600@www.pvca.org
SUMMARY:PATSY AND JOHNNY TRIBUTE SHOW
DESCRIPTION:THE COLORFUL SONGS REVUE\nPRESENTS\nPATSY CLINE AND JOHNNY CASH TRIBUTE SHOW\nLUNCH WITH WINE\nTHURSDAY\, JUNE 13\, 2024\n1130AM-330PM\nALMANSOR COURT\n700 S. ALMANSOR ST.  \nALHAMBRA\, CA\, 91801 \n$75 PER PERSON (PAYMENT MUST BE MADE TO BARBARA BY APRIL 20)\n 
URL:https://www.pvca.org/event/patsy-and-johnny-tribute-show/
LOCATION:ALMANSOR COURT\, 700 S ALMANSOR ST\, ALHAMBRA\, CA\, 91801\, United States
CATEGORIES:LUNCH AND SHOW
GEO:34.0898434;-118.1160168
X-APPLE-STRUCTURED-LOCATION;VALUE=URI;X-ADDRESS=ALMANSOR COURT 700 S ALMANSOR ST ALHAMBRA CA 91801 United States;X-APPLE-RADIUS=500;X-TITLE=700 S ALMANSOR ST:geo:-118.1160168,34.0898434
END:VEVENT
END:VCALENDAR