BEGIN:VCALENDAR
VERSION:2.0
PRODID:-//PVCA - ECPv5.1.6//NONSGML v1.0//EN
CALSCALE:GREGORIAN
METHOD:PUBLISH
X-WR-CALNAME:PVCA
X-ORIGINAL-URL:https://www.pvca.org
X-WR-CALDESC:Events for PVCA
BEGIN:VTIMEZONE
TZID:America/Los_Angeles
BEGIN:DAYLIGHT
TZOFFSETFROM:-0800
TZOFFSETTO:-0700
TZNAME:PDT
DTSTART:20250309T100000
END:DAYLIGHT
BEGIN:STANDARD
TZOFFSETFROM:-0700
TZOFFSETTO:-0800
TZNAME:PST
DTSTART:20251102T090000
END:STANDARD
END:VTIMEZONE
BEGIN:VEVENT
DTSTART;TZID=America/Los_Angeles:20251010T183000
DTEND;TZID=America/Los_Angeles:20251010T213000
DTSTAMP:20260423T061430
CREATED:20250616T170632Z
LAST-MODIFIED:20250930T155323Z
UID:22536-1760121000-1760131800@www.pvca.org
SUMMARY:NORTHVIEW HS HOMECOMING
DESCRIPTION:NORTHVIEW IS ASKING FOR 4+1\, TOTAL OF 5 CARS\nWe will meet in the South parking lot of CVS on the corner of Citrus and Rowland at 6:30 to leave by 6:45\nPLEASE BRING YOUR RADIOS\, DL\, and Insurance Card
URL:https://www.pvca.org/event/northview-hs-homecoming/
LOCATION:Covina District Field\, 220 W Puente St\, Covina\, CA\, 91723\, United States
CATEGORIES:Homecoming,PVCA Sponsored
ORGANIZER;CN="Rich%20R.":MAILTO:rroyall@rpmrcproducts.com
GEO:34.0824968;-117.8931886
X-APPLE-STRUCTURED-LOCATION;VALUE=URI;X-ADDRESS=Covina District Field 220 W Puente St Covina CA 91723 United States;X-APPLE-RADIUS=500;X-TITLE=220 W Puente St:geo:-117.8931886,34.0824968
END:VEVENT
END:VCALENDAR