BEGIN:VCALENDAR
VERSION:2.0
PRODID:-//PVCA - ECPv5.1.6//NONSGML v1.0//EN
CALSCALE:GREGORIAN
METHOD:PUBLISH
X-WR-CALNAME:PVCA
X-ORIGINAL-URL:https://www.pvca.org
X-WR-CALDESC:Events for PVCA
BEGIN:VTIMEZONE
TZID:America/Los_Angeles
BEGIN:DAYLIGHT
TZOFFSETFROM:-0800
TZOFFSETTO:-0700
TZNAME:PDT
DTSTART:20240310T100000
END:DAYLIGHT
BEGIN:STANDARD
TZOFFSETFROM:-0700
TZOFFSETTO:-0800
TZNAME:PST
DTSTART:20241103T090000
END:STANDARD
END:VTIMEZONE
BEGIN:VEVENT
DTSTART;TZID=America/Los_Angeles:20240511T093000
DTEND;TZID=America/Los_Angeles:20240511T133000
DTSTAMP:20260423T035447
CREATED:20240219T214240Z
LAST-MODIFIED:20240425T224852Z
UID:19568-1715419800-1715434200@www.pvca.org
SUMMARY:NCCC WEST COAST GOVERNOR'S MEETING
DESCRIPTION:SATURDAY\, MAY 11\, 2024\n10PM-1PM\nThe second NCCC West Coast Region Governor’s meeting for 2024 will be on Saturday\, May 11\, 2024.  It will be a ZOOM meeting beginning at 10AM.\nLink:\nhttps://zoom.us/j/91870139154?pwd=RS9heGpvcVdNeDdjQjlQcVZIRCtXUT09 \n  \nJUST THINK\, YOU CAN ATTEND GOVERNOR’S MEETING AND STILL MAKE IT TO ROTOLO CRUISE NIGHT!
URL:https://www.pvca.org/event/nccc-west-coast-governors-meeting-4/
LOCATION:CA\, United States
CATEGORIES:NCCC Meeting or Convention
END:VEVENT
END:VCALENDAR