BEGIN:VCALENDAR
VERSION:2.0
PRODID:-//PVCA - ECPv5.1.6//NONSGML v1.0//EN
CALSCALE:GREGORIAN
METHOD:PUBLISH
X-WR-CALNAME:PVCA
X-ORIGINAL-URL:https://www.pvca.org
X-WR-CALDESC:Events for PVCA
BEGIN:VTIMEZONE
TZID:America/Los_Angeles
BEGIN:DAYLIGHT
TZOFFSETFROM:-0800
TZOFFSETTO:-0700
TZNAME:PDT
DTSTART:20240310T100000
END:DAYLIGHT
BEGIN:STANDARD
TZOFFSETFROM:-0700
TZOFFSETTO:-0800
TZNAME:PST
DTSTART:20241103T090000
END:STANDARD
END:VTIMEZONE
BEGIN:VEVENT
DTSTART;TZID=America/Los_Angeles:20240302T120000
DTEND;TZID=America/Los_Angeles:20240302T150000
DTSTAMP:20260424T091439
CREATED:20240219T213027Z
LAST-MODIFIED:20240219T213027Z
UID:19564-1709380800-1709391600@www.pvca.org
SUMMARY:NCCC WEST COAST GOVERNOR'S MEETING
DESCRIPTION:SATURDAY\, MARCH 2\, 2024\n12PM-3PM\nThe first NCCC West Coast Region Governor’s meeting for 2024 will be hosted by Las Vegas Corvette Association on Saturday\, March 2nd at Sean Patrick’s Pub\, 6788 N. 5th Street\, North Las Vegas\, NV 89084.  The meeting starts at 1:00PM but join us for lunch at Noon.\nIf you want to make a weekend of it\, they are suggesting you make reservations at the Aliante Hotel\, 7300 Alante Pkwy\, North Las Vegas\, NV 89084.  The hotel is within five minutes of the meeting site and has a full complement of restaurants\, casinos\, and shops.  The phone number for the hotel is (702) 692-7777.
URL:https://www.pvca.org/event/nccc-west-coast-governors-meeting-3/
LOCATION:CA\, United States
CATEGORIES:NCCC Meeting or Convention
END:VEVENT
END:VCALENDAR