BEGIN:VCALENDAR
VERSION:2.0
PRODID:-//PVCA - ECPv5.1.6//NONSGML v1.0//EN
CALSCALE:GREGORIAN
METHOD:PUBLISH
X-WR-CALNAME:PVCA
X-ORIGINAL-URL:https://www.pvca.org
X-WR-CALDESC:Events for PVCA
BEGIN:VTIMEZONE
TZID:America/Los_Angeles
BEGIN:DAYLIGHT
TZOFFSETFROM:-0800
TZOFFSETTO:-0700
TZNAME:PDT
DTSTART:20180311T100000
END:DAYLIGHT
BEGIN:STANDARD
TZOFFSETFROM:-0700
TZOFFSETTO:-0800
TZNAME:PST
DTSTART:20181104T090000
END:STANDARD
END:VTIMEZONE
BEGIN:VEVENT
DTSTART;TZID=America/Los_Angeles:20180922T100000
DTEND;TZID=America/Los_Angeles:20180922T120000
DTSTAMP:20260419T105339
CREATED:20180914T165512Z
LAST-MODIFIED:20180914T165512Z
UID:7497-1537610400-1537617600@www.pvca.org
SUMMARY:Lutheran HS Homecoming La Verne
DESCRIPTION:Lutheran HS in La Verne for 4 Corvettes for their Homecoming game Saturday Sept. 22nd. at 10:15am. We will pre stage at the Panera Bread on the northeast corner of Foothill Blvd and Fruit St.( take the 210 freeway west to Fruit St. turn left on Fruit St. to Foothill Blvd. ) at 10am. then leave to be at the school by 10:15am.
URL:https://www.pvca.org/event/lutheran-hs-homecoming-la-verne/
LOCATION:Lutheran HS\, 3960 Fruit St.\, La Verne\, CA\, 91750\, United States
CATEGORIES:Homecoming
GEO:34.1152717;-117.7605221
X-APPLE-STRUCTURED-LOCATION;VALUE=URI;X-ADDRESS=Lutheran HS 3960 Fruit St. La Verne CA 91750 United States;X-APPLE-RADIUS=500;X-TITLE=3960 Fruit St.:geo:-117.7605221,34.1152717
END:VEVENT
END:VCALENDAR