BEGIN:VCALENDAR
VERSION:2.0
PRODID:-//PVCA - ECPv5.1.6//NONSGML v1.0//EN
CALSCALE:GREGORIAN
METHOD:PUBLISH
X-WR-CALNAME:PVCA
X-ORIGINAL-URL:https://www.pvca.org
X-WR-CALDESC:Events for PVCA
BEGIN:VTIMEZONE
TZID:America/Los_Angeles
BEGIN:DAYLIGHT
TZOFFSETFROM:-0800
TZOFFSETTO:-0700
TZNAME:PDT
DTSTART:20220313T100000
END:DAYLIGHT
BEGIN:STANDARD
TZOFFSETFROM:-0700
TZOFFSETTO:-0800
TZNAME:PST
DTSTART:20221106T090000
END:STANDARD
END:VTIMEZONE
BEGIN:VEVENT
DTSTART;TZID=America/Los_Angeles:20220923T180000
DTEND;TZID=America/Los_Angeles:20220923T210000
DTSTAMP:20260425T115816
CREATED:20220727T201119Z
LAST-MODIFIED:20220914T022506Z
UID:15296-1663956000-1663966800@www.pvca.org
SUMMARY:LOS OSOS HIGH SCHOOL HOMECOMING
DESCRIPTION:  \nLOS OSOS HS HOMECOMING\n Friday\, September 23\, 2022\nKEVIN AND DEBBIE JONES ARE COORDINATING THIS EVENT\n  \n\n\n\nWe have a request for six (6) Corvettes with an extra for Los Osos HS Homecoming game on Friday\,  September 23\, 2022.  \nWE WILL BE GOING AROUND THE FIELD TWO TIMES.  ONCE FOR THE PRINCESS AND ONE TIME FOR THE PRINCE.\nWE WILL MEET AT THE McDONALD’S  PARKING LOT 6381 HAVEN AVE. RANCHO CUCAMONGA\, AT\n6:15PM\, DRIVERS MEETING AT 6:30\, LEAVING FOR LOS OSOS AT 6:45PM. (UPPER ENTRANCE\nFOLLOWING THE EVENT\, JOIN US AT LOGAN’S ROADHOUSE\, WITH THE ETIWANDA GROUP FOR DINNER\, DESSERT OR MORE.\n\n\n  \nPLEASE BRING YOUR RADIOS\n\n\n\n\n\n\n\n\n 
URL:https://www.pvca.org/event/los-osos-high-school-homecoming-2/
LOCATION:Los Osos High School\, 6001 Milliken Ave\, Rancho Cucamonga\, CA\, 91737\, United States
CATEGORIES:Homecoming
GEO:34.1453223;-117.5554867
X-APPLE-STRUCTURED-LOCATION;VALUE=URI;X-ADDRESS=Los Osos High School 6001 Milliken Ave Rancho Cucamonga CA 91737 United States;X-APPLE-RADIUS=500;X-TITLE=6001 Milliken Ave:geo:-117.5554867,34.1453223
END:VEVENT
END:VCALENDAR