BEGIN:VCALENDAR
VERSION:2.0
PRODID:-//PVCA - ECPv5.1.6//NONSGML v1.0//EN
CALSCALE:GREGORIAN
METHOD:PUBLISH
X-WR-CALNAME:PVCA
X-ORIGINAL-URL:https://www.pvca.org
X-WR-CALDESC:Events for PVCA
BEGIN:VTIMEZONE
TZID:America/Los_Angeles
BEGIN:DAYLIGHT
TZOFFSETFROM:-0800
TZOFFSETTO:-0700
TZNAME:PDT
DTSTART:20250309T100000
END:DAYLIGHT
BEGIN:STANDARD
TZOFFSETFROM:-0700
TZOFFSETTO:-0800
TZNAME:PST
DTSTART:20251102T090000
END:STANDARD
END:VTIMEZONE
BEGIN:VEVENT
DTSTART;TZID=America/Los_Angeles:20250927T090000
DTEND;TZID=America/Los_Angeles:20250927T150000
DTSTAMP:20260423T044242
CREATED:20250814T173504Z
LAST-MODIFIED:20250814T175834Z
UID:22821-1758963600-1758985200@www.pvca.org
SUMMARY:HIGH DESERT PREGNANCY CLINIC CAR\, TRUCK\, and MOTORCYCLE SHOW
DESCRIPTION:Information Only\, an RSVP here DOES NOT sign you up for the show
URL:https://www.pvca.org/event/high-desert-pregnancy-clinic-car-truck-and-motorcycle-show/
LOCATION:Town Center Mall\, 57725 29 Palms Hwy\, Yucca Valley\, CA\, 92284\, United States
CATEGORIES:Carshow,NOT PVCA Sponsored
END:VEVENT
END:VCALENDAR