BEGIN:VCALENDAR
VERSION:2.0
PRODID:-//PVCA - ECPv5.1.6//NONSGML v1.0//EN
CALSCALE:GREGORIAN
METHOD:PUBLISH
X-WR-CALNAME:PVCA
X-ORIGINAL-URL:https://www.pvca.org
X-WR-CALDESC:Events for PVCA
BEGIN:VTIMEZONE
TZID:America/Los_Angeles
BEGIN:DAYLIGHT
TZOFFSETFROM:-0800
TZOFFSETTO:-0700
TZNAME:PDT
DTSTART:20250309T100000
END:DAYLIGHT
BEGIN:STANDARD
TZOFFSETFROM:-0700
TZOFFSETTO:-0800
TZNAME:PST
DTSTART:20251102T090000
END:STANDARD
END:VTIMEZONE
BEGIN:VEVENT
DTSTART;TZID=America/Los_Angeles:20251003T180000
DTEND;TZID=America/Los_Angeles:20251003T210000
DTSTAMP:20260423T061548
CREATED:20250814T171152Z
LAST-MODIFIED:20250930T201635Z
UID:22813-1759514400-1759525200@www.pvca.org
SUMMARY:GLEN A. WILSON HOMECOMING
DESCRIPTION:6 + 1\, 7 cars total\, requested\nMeet 6:00 PM at the Jimmy John’s parking lot in the Puente Hills Mall. 1552 S Azusa Ave Unit D\, City of Industry\, CA 91748 https://maps.app.goo.gl/DoQvxswuaf13UMGm6 \nPLEASE BRING YOUR RADIOS\, DL\, and Insurance Card\n 
URL:https://www.pvca.org/event/glen-a-wilson-homecoming/
LOCATION:Wilson High School\, 16455 Wedgeworth Dr\, Hacienda Heights\, CA\, 91745\, United States
CATEGORIES:Homecoming,PVCA Sponsored
GEO:33.9993293;-117.945921
X-APPLE-STRUCTURED-LOCATION;VALUE=URI;X-ADDRESS=Wilson High School 16455 Wedgeworth Dr Hacienda Heights CA 91745 United States;X-APPLE-RADIUS=500;X-TITLE=16455 Wedgeworth Dr:geo:-117.945921,33.9993293
END:VEVENT
END:VCALENDAR