BEGIN:VCALENDAR
VERSION:2.0
PRODID:-//PVCA - ECPv5.1.6//NONSGML v1.0//EN
CALSCALE:GREGORIAN
METHOD:PUBLISH
X-WR-CALNAME:PVCA
X-ORIGINAL-URL:https://www.pvca.org
X-WR-CALDESC:Events for PVCA
BEGIN:VTIMEZONE
TZID:America/Los_Angeles
BEGIN:DAYLIGHT
TZOFFSETFROM:-0800
TZOFFSETTO:-0700
TZNAME:PDT
DTSTART:20190310T100000
END:DAYLIGHT
BEGIN:STANDARD
TZOFFSETFROM:-0700
TZOFFSETTO:-0800
TZNAME:PST
DTSTART:20191103T090000
END:STANDARD
END:VTIMEZONE
BEGIN:VEVENT
DTSTART;TZID=America/Los_Angeles:20190608T100000
DTEND;TZID=America/Los_Angeles:20190608T150000
DTSTAMP:20260423T031328
CREATED:20190420T220628Z
LAST-MODIFIED:20190420T220628Z
UID:8965-1559988000-1560006000@www.pvca.org
SUMMARY:For The Love of Cars Pomona Car Show
DESCRIPTION:2nd Annual FOR THE LOVE OF CARS POMONA \nFTLC flyer
URL:https://www.pvca.org/event/for-the-love-of-cars-pomona-car-show/
LOCATION:Village at Indian Hill\, 1460 E Holt Ave.\, Pomona\, CA\, 91767\, United States
CATEGORIES:Carshow
GEO:34.0617987;-117.7196565
X-APPLE-STRUCTURED-LOCATION;VALUE=URI;X-ADDRESS=Village at Indian Hill 1460 E Holt Ave. Pomona CA 91767 United States;X-APPLE-RADIUS=500;X-TITLE=1460 E Holt Ave.:geo:-117.7196565,34.0617987
END:VEVENT
END:VCALENDAR