BEGIN:VCALENDAR
VERSION:2.0
PRODID:-//PVCA - ECPv5.1.6//NONSGML v1.0//EN
CALSCALE:GREGORIAN
METHOD:PUBLISH
X-WR-CALNAME:PVCA
X-ORIGINAL-URL:https://www.pvca.org
X-WR-CALDESC:Events for PVCA
BEGIN:VTIMEZONE
TZID:America/Los_Angeles
BEGIN:DAYLIGHT
TZOFFSETFROM:-0800
TZOFFSETTO:-0700
TZNAME:PDT
DTSTART:20230312T100000
END:DAYLIGHT
BEGIN:STANDARD
TZOFFSETFROM:-0700
TZOFFSETTO:-0800
TZNAME:PST
DTSTART:20231105T090000
END:STANDARD
END:VTIMEZONE
BEGIN:VEVENT
DTSTART;TZID=America/Los_Angeles:20230228T180000
DTEND;TZID=America/Los_Angeles:20230228T210000
DTSTAMP:20260424T054737
CREATED:20230210T155051Z
LAST-MODIFIED:20230210T155818Z
UID:16872-1677607200-1677618000@www.pvca.org
SUMMARY:FEBRUARY'S SOCIAL DINNER
DESCRIPTION:PAUL AND SUE COPE ARE HOSTING FEBRUARY’S 4th TUESDAY SOCIAL DINNER\nMARKET BROILER RESTAURANT\n4553 MILLS CIRCLE\, ONTARIO\, CA 91764\n(IN ONTARIO MILLS)\nTUESDAY\, FEBRUARY 28 AT 6PM\nWE WILL BE SEATED IN THE GLASSED-IN PATIO \nWE WILL BE ORDERING OFF THE MENU AND A 20% TIP ADDED TO YOUR BILL AND THERE WILL BE SEPARATE CHECKS
URL:https://www.pvca.org/event/februarys-social-dinner/
LOCATION:MARKET BROILER RESTAURANT\, 4553 MILLS CIRCLE\, ONTARIO\, 91764
CATEGORIES:Dinner - Social Event
ATTACH;FMTTYPE=image/jpeg:https://www.pvca.org/wp-content/uploads/2023/02/IMG_1481.jpg
GEO:34.0744155;-117.5515566
X-APPLE-STRUCTURED-LOCATION;VALUE=URI;X-ADDRESS=MARKET BROILER RESTAURANT 4553 MILLS CIRCLE ONTARIO 91764;X-APPLE-RADIUS=500;X-TITLE=4553 MILLS CIRCLE:geo:-117.5515566,34.0744155
END:VEVENT
END:VCALENDAR