BEGIN:VCALENDAR
VERSION:2.0
PRODID:-//PVCA - ECPv5.1.6//NONSGML v1.0//EN
CALSCALE:GREGORIAN
METHOD:PUBLISH
X-WR-CALNAME:PVCA
X-ORIGINAL-URL:https://www.pvca.org
X-WR-CALDESC:Events for PVCA
BEGIN:VTIMEZONE
TZID:America/Los_Angeles
BEGIN:DAYLIGHT
TZOFFSETFROM:-0800
TZOFFSETTO:-0700
TZNAME:PDT
DTSTART:20230312T100000
END:DAYLIGHT
BEGIN:STANDARD
TZOFFSETFROM:-0700
TZOFFSETTO:-0800
TZNAME:PST
DTSTART:20231105T090000
END:STANDARD
END:VTIMEZONE
BEGIN:VEVENT
DTSTART;TZID=America/Los_Angeles:20230627T170000
DTEND;TZID=America/Los_Angeles:20230627T180000
DTSTAMP:20260423T195726
CREATED:20230622T032142Z
LAST-MODIFIED:20230622T032224Z
UID:17638-1687885200-1687888800@www.pvca.org
SUMMARY:E-BOARD MEETING
DESCRIPTION:E-board will be meeting at:\nWarehouse Pizza\n2340 D Street La Verne\, Ca 91750\nBefore the Social Dinner\nAGENDA TO FOLLOW\nALL MEMBERS ARE WELCOME
URL:https://www.pvca.org/event/e-board-meeting-11/
LOCATION:WAREHOUSE PIZZA\, 2340 D ST\, LA VERNE\, 91750
CATEGORIES:E-Board Meeting
ORGANIZER;CN="Charles%20A.":MAILTO:adamsocb@projectcba.com
END:VEVENT
END:VCALENDAR