BEGIN:VCALENDAR
VERSION:2.0
PRODID:-//PVCA - ECPv5.1.6//NONSGML v1.0//EN
CALSCALE:GREGORIAN
METHOD:PUBLISH
X-WR-CALNAME:PVCA
X-ORIGINAL-URL:https://www.pvca.org
X-WR-CALDESC:Events for PVCA
BEGIN:VTIMEZONE
TZID:America/Los_Angeles
BEGIN:DAYLIGHT
TZOFFSETFROM:-0800
TZOFFSETTO:-0700
TZNAME:PDT
DTSTART:20190310T100000
END:DAYLIGHT
BEGIN:STANDARD
TZOFFSETFROM:-0700
TZOFFSETTO:-0800
TZNAME:PST
DTSTART:20191103T090000
END:STANDARD
END:VTIMEZONE
BEGIN:VEVENT
DTSTART;TZID=America/Los_Angeles:20190608T173000
DTEND;TZID=America/Los_Angeles:20190608T220000
DTSTAMP:20260421T095948
CREATED:20190424T042422Z
LAST-MODIFIED:20190424T042422Z
UID:9001-1560015000-1560031200@www.pvca.org
SUMMARY:Covina Sunrise Rotary presents Disco at the Barn
DESCRIPTION:Robert Potter will be Partying  the night away 70’s style with: 2 bands\, food and drink from over 20 local restaurants\, Casino\, Craft Beer Tent\, Craft cocktails\, Famous Shrimp Boat\, Live and Silent Auctions at Hurst Ranch in West Covina.  He would love our PVCA family to join him as they help benefit Operation Santa Clothes\, CSR Legacy Foundation.
URL:https://www.pvca.org/event/covina-sunrise-rotary-presents-disco-at-the-barn/
LOCATION:Hurst Ranch\, 1227 S. Orange Ave.\, West Covina\, CA\, United States
CATEGORIES:Charity Event
GEO:34.0640903;-117.95209
X-APPLE-STRUCTURED-LOCATION;VALUE=URI;X-ADDRESS=Hurst Ranch 1227 S. Orange Ave. West Covina CA United States;X-APPLE-RADIUS=500;X-TITLE=1227 S. Orange Ave.:geo:-117.95209,34.0640903
END:VEVENT
END:VCALENDAR