BEGIN:VCALENDAR
VERSION:2.0
PRODID:-//PVCA - ECPv5.1.6//NONSGML v1.0//EN
CALSCALE:GREGORIAN
METHOD:PUBLISH
X-WR-CALNAME:PVCA
X-ORIGINAL-URL:https://www.pvca.org
X-WR-CALDESC:Events for PVCA
BEGIN:VTIMEZONE
TZID:America/Los_Angeles
BEGIN:DAYLIGHT
TZOFFSETFROM:-0800
TZOFFSETTO:-0700
TZNAME:PDT
DTSTART:20230312T100000
END:DAYLIGHT
BEGIN:STANDARD
TZOFFSETFROM:-0700
TZOFFSETTO:-0800
TZNAME:PST
DTSTART:20231105T090000
END:STANDARD
END:VTIMEZONE
BEGIN:VEVENT
DTSTART;TZID=America/Los_Angeles:20230624T090000
DTEND;TZID=America/Los_Angeles:20230624T170000
DTSTAMP:20260423T212544
CREATED:20230527T001801Z
LAST-MODIFIED:20230605T203246Z
UID:17463-1687597200-1687626000@www.pvca.org
SUMMARY:BOB DAVIS' MYSTERY RUN
DESCRIPTION:SATURDAY\, JUNE 24\, 2023\nBOB AND DIANA DAVIS IS PLANNING ANOTHER MYSTERY RUN\nWill it be North to Barstow\, East to Palm Desert\, South to San Diego\, or West to Carpinteria?  \nSign up and find out. \nWe will meet at: Double Tree Hotel by Hilton\,\n222 N. Vineyard\, Ontario (south of the 10 Fwy\, south parking area)\nMeeting at 9AM\nDriver’s meeting at 9:15AM\nLeaving promptly at 9:30AM\nHave a full tank of gas and your club radios.
URL:https://www.pvca.org/event/bob-davis-mystery-run/
LOCATION:DOUBLE TREE BY HILTON\, 222 N VINYARD\, AVE\, Ontario\, CA\, 91764\, United States
CATEGORIES:Mystery Run
END:VEVENT
END:VCALENDAR