BEGIN:VCALENDAR
VERSION:2.0
PRODID:-//PVCA - ECPv5.1.6//NONSGML v1.0//EN
CALSCALE:GREGORIAN
METHOD:PUBLISH
X-WR-CALNAME:PVCA
X-ORIGINAL-URL:https://www.pvca.org
X-WR-CALDESC:Events for PVCA
BEGIN:VTIMEZONE
TZID:America/Los_Angeles
BEGIN:DAYLIGHT
TZOFFSETFROM:-0800
TZOFFSETTO:-0700
TZNAME:PDT
DTSTART:20260308T100000
END:DAYLIGHT
BEGIN:STANDARD
TZOFFSETFROM:-0700
TZOFFSETTO:-0800
TZNAME:PST
DTSTART:20261101T090000
END:STANDARD
END:VTIMEZONE
BEGIN:VEVENT
DTSTART;TZID=America/Los_Angeles:20260521T080000
DTEND;TZID=America/Los_Angeles:20260521T170000
DTSTAMP:20260422T204401
CREATED:20260414T222859Z
LAST-MODIFIED:20260421T151743Z
UID:24418-1779350400-1779382800@www.pvca.org
SUMMARY:BIG BEAR FUN RUN
DESCRIPTION:Beautiful scenic drive up the mountain on the 38 HWY into Big Bear City.  Through Big Bear City and over the lake to the North Shore.  A Quick stop to stretch our legs at the Big Bear Discovery Center then back on the road through Fawnskin and over the Big Bear Dam. We will pass Boulder Bay and Boulder Bay Park then stop for lunch Lakeside at De La Nonna for lunch. \n \nMeeting location TBD \nNon-Members who would like to attend as guests send an email to: activities@PVCA.org
URL:https://www.pvca.org/event/big-bear-fun-run/
LOCATION:CA\, United States
CATEGORIES:LUNCH & DRIVE,PVCA Sponsored
END:VEVENT
END:VCALENDAR