BEGIN:VCALENDAR
VERSION:2.0
PRODID:-//PVCA - ECPv5.1.6//NONSGML v1.0//EN
CALSCALE:GREGORIAN
METHOD:PUBLISH
X-WR-CALNAME:PVCA
X-ORIGINAL-URL:https://www.pvca.org
X-WR-CALDESC:Events for PVCA
BEGIN:VTIMEZONE
TZID:America/Los_Angeles
BEGIN:DAYLIGHT
TZOFFSETFROM:-0800
TZOFFSETTO:-0700
TZNAME:PDT
DTSTART:20260308T100000
END:DAYLIGHT
BEGIN:STANDARD
TZOFFSETFROM:-0700
TZOFFSETTO:-0800
TZNAME:PST
DTSTART:20261101T090000
END:STANDARD
END:VTIMEZONE
BEGIN:VEVENT
DTSTART;TZID=America/Los_Angeles:20261206T113000
DTEND;TZID=America/Los_Angeles:20261206T150000
DTSTAMP:20260419T070213
CREATED:20260202T062544Z
LAST-MODIFIED:20260202T064605Z
UID:23833-1796556600-1796569200@www.pvca.org
SUMMARY:ANNUAL PVCA CHRISTMAS PARTY
DESCRIPTION:  \n\n\nCLICK HERE TO PAY\nCHRISTMAS PARTY\nat the\nHISTORIC SYCAMORE INN\nSUNDAY\, DECEMBER 06\, 2026\nDoors will open at 11:30am\nCost is $25.00 per member and $30 for non-members (MUST BE GUEST OF A MEMBER)\nPayment needs to be received by December 1st.\nALL NON HOSTED BAR\, HAPPY HOUR PRICING\nBRINGING IN WINE $25 Corkage EACH\nSTARTERS (choice of one)\nSYCAMORE SALAD OR MINESTRONE SOUP \nENTRÉE (choice of one)\nFILET MIGNON MEDALIONS\nSALMON Filet\n(If you want Salmon PLEASE let us know by Dec\, 1st\nand put it in the comments on your RSVP when signing up)\nHERB ROASTED CHICKEN\nVEGETARIAN PASTA\nSeasonal Vegetables & Mashed Potatoes\nHot Sourdough Rolls and Butter \nDESSERT\nCLASSIC CHEESE CAKE
URL:https://www.pvca.org/event/annual-pvca-christmas-party-2/
LOCATION:Sycamore Inn\, 8318 Foothill Blvd.\, Rancho Cucamonga\, CA\, 91730\, United States
CATEGORIES:Christmas Party
ORGANIZER;CN="Sue%20M":MAILTO:suemcelroy2013@yahoo.com
GEO:34.105583;-117.623452
X-APPLE-STRUCTURED-LOCATION;VALUE=URI;X-ADDRESS=Sycamore Inn 8318 Foothill Blvd. Rancho Cucamonga CA 91730 United States;X-APPLE-RADIUS=500;X-TITLE=8318 Foothill Blvd.:geo:-117.623452,34.105583
END:VEVENT
END:VCALENDAR