BEGIN:VCALENDAR
VERSION:2.0
PRODID:-//PVCA - ECPv5.1.6//NONSGML v1.0//EN
CALSCALE:GREGORIAN
METHOD:PUBLISH
X-WR-CALNAME:PVCA
X-ORIGINAL-URL:https://www.pvca.org
X-WR-CALDESC:Events for PVCA
BEGIN:VTIMEZONE
TZID:America/Los_Angeles
BEGIN:DAYLIGHT
TZOFFSETFROM:-0800
TZOFFSETTO:-0700
TZNAME:PDT
DTSTART:20190310T100000
END:DAYLIGHT
BEGIN:STANDARD
TZOFFSETFROM:-0700
TZOFFSETTO:-0800
TZNAME:PST
DTSTART:20191103T090000
END:STANDARD
END:VTIMEZONE
BEGIN:VEVENT
DTSTART;TZID=America/Los_Angeles:20190629T084500
DTEND;TZID=America/Los_Angeles:20190629T150000
DTSTAMP:20260423T121821
CREATED:20190627T040848Z
LAST-MODIFIED:20190627T043001Z
UID:9287-1561797900-1561820400@www.pvca.org
SUMMARY:Angeles Crest Run and lunch at Newcomb's Ranch
DESCRIPTION:We will be going on a fun run hosted by Charles & Karyn Adamson up Angeles Crest Highway to Newcomb’s Ranch. Newcomb’s Ranch Inn was built in 1939; the Ranch has changed many times over the last several decades\, serving as a restaurant\, brothel\, hotel\, general store and gas station.  Much of the original two story structure was destroyed from a fire in 1976.  The building was rebuilt and opened as a restaurant for many years by Lynn Newcomb Jr. Today\, Newcomb’s Ranch is owned by Frederick H. Rundall\, a lover of nature with a passion for the mountains.  Many weekends you will find many car & motorcycle enthusiasts\, it looks to be a beautiful weekend so we are looking forward to a great run. Please check their website for their menu. www.newcombsranch.com \nWe will meet at the Sycamore Hills Plaza at 2209 Base Line in Upland by the Mod Pizza (we have met here before). 8:45am meeting time\, 9:00am drivers meeting and departure at 9:15. We will make a stop in La Canada for a bathroom break before we take the drive up Angeles Crest Hwy 2.  Please have your tanks full before we leave. \n 
URL:https://www.pvca.org/event/angeles-crest-run-and-lunch-at-newcombs-ranch/
LOCATION:Newcomb’s Ranch\, CA-2 Mile Marker LA 50.93\, La Canada Flintridge\, CA\, 91011\, United States
CATEGORIES:Rally
GEO:34.3298239;-118.0019671
X-APPLE-STRUCTURED-LOCATION;VALUE=URI;X-ADDRESS=Newcomb’s Ranch CA-2 Mile Marker LA 50.93 La Canada Flintridge CA 91011 United States;X-APPLE-RADIUS=500;X-TITLE=CA-2 Mile Marker LA 50.93:geo:-118.0019671,34.3298239
END:VEVENT
END:VCALENDAR