BEGIN:VCALENDAR
VERSION:2.0
PRODID:-//PVCA - ECPv5.1.6//NONSGML v1.0//EN
CALSCALE:GREGORIAN
METHOD:PUBLISH
X-WR-CALNAME:PVCA
X-ORIGINAL-URL:https://www.pvca.org
X-WR-CALDESC:Events for PVCA
BEGIN:VTIMEZONE
TZID:America/Los_Angeles
BEGIN:DAYLIGHT
TZOFFSETFROM:-0800
TZOFFSETTO:-0700
TZNAME:PDT
DTSTART:20240310T100000
END:DAYLIGHT
BEGIN:STANDARD
TZOFFSETFROM:-0700
TZOFFSETTO:-0800
TZNAME:PST
DTSTART:20241103T090000
END:STANDARD
END:VTIMEZONE
BEGIN:VEVENT
DTSTART;TZID=America/Los_Angeles:20240316T123000
DTEND;TZID=America/Los_Angeles:20240316T163000
DTSTAMP:20260424T085625
CREATED:20240123T184116Z
LAST-MODIFIED:20240308T173304Z
UID:19344-1710592200-1710606600@www.pvca.org
SUMMARY:ALPV 25th ANNUAL TEA PARTY
DESCRIPTION:CELEBRATING THE LUCK O’ THE IRISH\nA FUNDRAISER BENEFITTING THE ASSISTANCE LEAGUE OF POMONA VALLEY\nSATURDAY\, MARCH 16\, 2024  \nDOORS OPEN AT 12:30 \n \nFOR MORE INFORMATION\, DIANA WILL BE THERE VOLUNTEERING  \n  \n 
URL:https://www.pvca.org/event/alpv-25th-annual-tea-party/
LOCATION:CA\, United States
CATEGORIES:Charity Event
END:VEVENT
END:VCALENDAR